BEGIN:VCALENDAR
VERSION:2.0
PRODID:-//Squarespace Inc/Squarespace 6//v6//EN
BEGIN:VEVENT
UID:6007477b3c8e377f59b862d0@squarespace.com
DTSTAMP:20210120T024911Z
DTSTART:20210307T233000Z
DTEND:20210312T003000Z
SUMMARY:Sea Week 2021 - Street Sweep 
GEO:-41.294339;174.781655
LOCATION:Sustainability Trust\, 2 Forresters Lane\, Wellington\, Wellington
 \, 6011\, New Zealand
END:VEVENT
END:VCALENDAR
