BEGIN:VCALENDAR
VERSION:2.0
PRODID:-//Squarespace Inc/Squarespace 6//v6//EN
BEGIN:VEVENT
UID:5e602996a078f871989926b6@squarespace.com
DTSTAMP:20210121T032230Z
DTSTART:20210225T050000Z
DTEND:20210225T070000Z
SUMMARY:Fairly Traded Clothing Swap 👜👖  
GEO:-41.294339;174.781655
LOCATION:Sustainability Trust\, 2 forresters Lane\, Wellington\, New Zealan
 d
END:VEVENT
END:VCALENDAR
